BEGIN:VCALENDAR
VERSION:2.0
PRODID:-//SP Bezirk Münchwilen - ECPv6.15.6//NONSGML v1.0//EN
CALSCALE:GREGORIAN
METHOD:PUBLISH
X-WR-CALNAME:SP Bezirk Münchwilen
X-ORIGINAL-URL:https://www.sp-bezirkmuenchwilen.ch
X-WR-CALDESC:Veranstaltungen im SP Bezirk Münchwilen
REFRESH-INTERVAL;VALUE=DURATION:PT1H
X-Robots-Tag:noindex
X-PUBLISHED-TTL:PT1H
BEGIN:VTIMEZONE
TZID:Europe/Zurich
BEGIN:DAYLIGHT
TZOFFSETFROM:+0100
TZOFFSETTO:+0200
TZNAME:CEST
DTSTART:20250330T010000
END:DAYLIGHT
BEGIN:STANDARD
TZOFFSETFROM:+0200
TZOFFSETTO:+0100
TZNAME:CET
DTSTART:20251026T010000
END:STANDARD
BEGIN:DAYLIGHT
TZOFFSETFROM:+0100
TZOFFSETTO:+0200
TZNAME:CEST
DTSTART:20260329T010000
END:DAYLIGHT
BEGIN:STANDARD
TZOFFSETFROM:+0200
TZOFFSETTO:+0100
TZNAME:CET
DTSTART:20261025T010000
END:STANDARD
BEGIN:DAYLIGHT
TZOFFSETFROM:+0100
TZOFFSETTO:+0200
TZNAME:CEST
DTSTART:20270328T010000
END:DAYLIGHT
BEGIN:STANDARD
TZOFFSETFROM:+0200
TZOFFSETTO:+0100
TZNAME:CET
DTSTART:20271031T010000
END:STANDARD
END:VTIMEZONE
BEGIN:VEVENT
DTSTART;TZID=Europe/Zurich:20260529T183000
DTEND;TZID=Europe/Zurich:20260529T203000
DTSTAMP:20260421T104247
CREATED:20260318T133850Z
LAST-MODIFIED:20260318T133850Z
UID:84876-1780079400-1780086600@www.sp-bezirkmuenchwilen.ch
SUMMARY:LINKSTREFF SP Bezirk Münchwilen
DESCRIPTION:Linkstreff SP Bezirk Münchwilen – Abstimmungen vom 14. Juni\n📍 Ort: Gasthaus Engel\, Sirnach\n🗓️ Datum: Freitag\, 29. Mai 2026\n🕕 Zeit: 18.30 Uhr \nAm Linkstreff vom 29. Mai diskutieren wir gemeinsam die kommenden eidgenössischen Abstimmungen: \n– Volksinitiative «Keine 10-Millionen-Schweiz! (Nachhaltigkeitsinitiative)»\n– Änderung vom 26. September 2025 des Bundesgesetzes über den zivilen Ersatzdienst (Zivildienstgesetz\, ZDG) \nZiel ist ein offener Austausch: Worum geht es konkret? Welche Argumente sprechen dafür oder dagegen? \nAlle Interessierten sind herzlich willkommen. \n\n  \n 
URL:https://www.sp-bezirkmuenchwilen.ch/veranstaltung/linkstreff-sp-bezirk-muenchwilen-8/
LOCATION:Gasthaus Engel\, Fischingerstrasse 2\, Sirnach\, Thurgau\, 8370\, Switzerland
END:VEVENT
END:VCALENDAR